BEGIN:VCALENDAR
VERSION:2.0
PRODID:-//Mattapoisett Democratic Town Committee - ECPv6.15.20//NONSGML v1.0//EN
CALSCALE:GREGORIAN
METHOD:PUBLISH
X-ORIGINAL-URL:http://mattdems.org
X-WR-CALDESC:Events for Mattapoisett Democratic Town Committee
REFRESH-INTERVAL;VALUE=DURATION:PT1H
X-Robots-Tag:noindex
X-PUBLISHED-TTL:PT1H
BEGIN:VTIMEZONE
TZID:UTC
BEGIN:STANDARD
TZOFFSETFROM:+0000
TZOFFSETTO:+0000
TZNAME:UTC
DTSTART:20160101T000000
END:STANDARD
END:VTIMEZONE
BEGIN:VEVENT
DTSTART;TZID=UTC:20170823T173000
DTEND;TZID=UTC:20170823T193000
DTSTAMP:20260423T121142
CREATED:20170817T144758Z
LAST-MODIFIED:20170817T144758Z
UID:15868-1503509400-1503516600@mattdems.org
SUMMARY:Elizabeth Warren Town Hall at UMASS Dartmouth
DESCRIPTION:Warren will make remarks and answer questions about what’s happening in the Senate and how she’s fighting for Massachusetts families. \nDoors will open for the event at 5:30 p.m. with the actual town hall starting at 6:30 p.m. \nThe event will also offer those in attendance an opportunity to talk with staff about any questions or concerns\, or any need for assistance. \nhttp://www.southcoasttoday.com/news/20170816/sen-elizabeth-warren-coming-to-umass-dartmouth
URL:http://mattdems.org/index.php/event/elizabeth-warren-town-hall-at-umass-dartmouth/
LOCATION:UMass Dartmouth\, 285 Old Westport Road\, North Dartmouth\, MA\, 02747\, United States
ATTACH;FMTTYPE=image/jpeg:http://mattdems.org/wp-content/uploads/2015/05/EWarrren.jpg
END:VEVENT
END:VCALENDAR