BEGIN:VCALENDAR
VERSION:2.0
PRODID:-//Mattapoisett Democratic Town Committee - ECPv6.15.20//NONSGML v1.0//EN
CALSCALE:GREGORIAN
METHOD:PUBLISH
X-ORIGINAL-URL:http://mattdems.org
X-WR-CALDESC:Events for Mattapoisett Democratic Town Committee
REFRESH-INTERVAL;VALUE=DURATION:PT1H
X-Robots-Tag:noindex
X-PUBLISHED-TTL:PT1H
BEGIN:VTIMEZONE
TZID:UTC
BEGIN:STANDARD
TZOFFSETFROM:+0000
TZOFFSETTO:+0000
TZNAME:UTC
DTSTART:20160101T000000
END:STANDARD
END:VTIMEZONE
BEGIN:VEVENT
DTSTART;TZID=UTC:20170827T163000
DTEND;TZID=UTC:20170827T190000
DTSTAMP:20260423T120055
CREATED:20170826T180658Z
LAST-MODIFIED:20170826T180658Z
UID:15881-1503851400-1503860400@mattdems.org
SUMMARY:Citizens for Economic Justice
DESCRIPTION:Attend for an update on state efforts and events related to getting the “We the People Act” voted out of committee in the State Legislature. For more information call Jack Dean at 508-758-9201 or email him at jdean1969@aol.com. \nMeeting will be held in the Harrop Center\, on the side of the Church
URL:http://mattdems.org/index.php/event/citizens-for-economic-justice-2/
LOCATION:Unitarian Memorial Church\, 102 Green Street\, Fairhaven\, MA\, United States
END:VEVENT
END:VCALENDAR