BEGIN:VCALENDAR
VERSION:2.0
PRODID:-//Mattapoisett Democratic Town Committee - ECPv6.15.20//NONSGML v1.0//EN
CALSCALE:GREGORIAN
METHOD:PUBLISH
X-ORIGINAL-URL:http://mattdems.org
X-WR-CALDESC:Events for Mattapoisett Democratic Town Committee
REFRESH-INTERVAL;VALUE=DURATION:PT1H
X-Robots-Tag:noindex
X-PUBLISHED-TTL:PT1H
BEGIN:VTIMEZONE
TZID:UTC
BEGIN:STANDARD
TZOFFSETFROM:+0000
TZOFFSETTO:+0000
TZNAME:UTC
DTSTART:20160101T000000
END:STANDARD
END:VTIMEZONE
BEGIN:VEVENT
DTSTART;TZID=UTC:20170917T140000
DTEND;TZID=UTC:20170917T150000
DTSTAMP:20260423T103924
CREATED:20170905T134942Z
LAST-MODIFIED:20170905T134942Z
UID:15889-1505656800-1505660400@mattdems.org
SUMMARY:Real Journalism vs Fake News
DESCRIPTION:In today’s world\, where news is often available in almost real time\, news consumers as well as journalists face many challenges as they sort through the huge variety of sources. The public is invited to attend a free discussion of how to decipher real journalism from fake news with Mindy Todd\, Managing Director of Editorial & Host/Executive Producer of “The Point” on NPR’s local radio station WCAI and Paul Pronovost\, Editor-in-Chief of the Cape Cod Times\, on Sunday\, September 17 from 2:00 – 3:00 pm at the Mattapoisett Free Public Library. Come hear these professionals discuss how news reporting has changed and how the public can determine credible news sources. Learn how to navigate the news in today’s world and become a better-informed citizen.\nSponsored by the Tri-Town Public Libraries: Mattapoisett\, Rochester\, and Marion.
URL:http://mattdems.org/index.php/event/real-journalism-vs-fake-news/
LOCATION:Mattapoisett Free Public Library\, 7 Barstow Street\, Mattapoisett\, MA\, 02739\, United States
END:VEVENT
END:VCALENDAR