BEGIN:VCALENDAR
VERSION:2.0
PRODID:-//Mattapoisett Democratic Town Committee - ECPv6.15.20//NONSGML v1.0//EN
CALSCALE:GREGORIAN
METHOD:PUBLISH
X-ORIGINAL-URL:http://mattdems.org
X-WR-CALDESC:Events for Mattapoisett Democratic Town Committee
REFRESH-INTERVAL;VALUE=DURATION:PT1H
X-Robots-Tag:noindex
X-PUBLISHED-TTL:PT1H
BEGIN:VTIMEZONE
TZID:UTC
BEGIN:STANDARD
TZOFFSETFROM:+0000
TZOFFSETTO:+0000
TZNAME:UTC
DTSTART:20160101T000000
END:STANDARD
END:VTIMEZONE
BEGIN:VEVENT
DTSTART;TZID=UTC:20170923T100000
DTEND;TZID=UTC:20170923T120000
DTSTAMP:20260423T103227
CREATED:20170918T174640Z
LAST-MODIFIED:20170918T174640Z
UID:15896-1506160800-1506168000@mattdems.org
SUMMARY:The Future of Energy - Film Screening
DESCRIPTION:South Coast Neighbors United presents a film screening\, “The Future of Energy\,” a journey across America to shine a light on communities and individuals at the forefront of the clean energy revolution\, who are taking practical steps to transition from fossil fuels to renewable power. \nJoin us immediately after the film for an informative discussion about YOUR Future of Energy! Megan Amsler from Self-Reliance will give a brief overview of the benefits of solar and considerations for installation. Also learn how to participate in Mass Solar Connect\, a Cape and South Coast outreach and group purchase initiative. \nTo download a flyer with information on this film and the discussion to follow\, go to \nhttps://drive.google.com/open?id=0B4eXfXGRwMgyZ0hQRi1lM2FMd3c \nThis event is a collaboration between SCNU\, the Marion Institute and Self-Reliance. \nhttp://www.videoproject.com/The-Future-of-Energy.html
URL:http://mattdems.org/index.php/event/the-future-of-energy-film-screening/
LOCATION:Acushnet Public Library\, 232 Middle Road\, Acushnet\, MA\, United States
END:VEVENT
END:VCALENDAR