BEGIN:VCALENDAR
VERSION:2.0
PRODID:-//Mattapoisett Democratic Town Committee - ECPv6.15.20//NONSGML v1.0//EN
CALSCALE:GREGORIAN
METHOD:PUBLISH
X-ORIGINAL-URL:http://mattdems.org
X-WR-CALDESC:Events for Mattapoisett Democratic Town Committee
REFRESH-INTERVAL;VALUE=DURATION:PT1H
X-Robots-Tag:noindex
X-PUBLISHED-TTL:PT1H
BEGIN:VTIMEZONE
TZID:UTC
BEGIN:STANDARD
TZOFFSETFROM:+0000
TZOFFSETTO:+0000
TZNAME:UTC
DTSTART:20160101T000000
END:STANDARD
END:VTIMEZONE
BEGIN:VEVENT
DTSTART;TZID=UTC:20171025T080000
DTEND;TZID=UTC:20171025T103000
DTSTAMP:20260423T090410
CREATED:20171003T130904Z
LAST-MODIFIED:20171003T130904Z
UID:15905-1508918400-1508927400@mattdems.org
SUMMARY:The Women's Fund's 2017 Leadership Breakfast
DESCRIPTION:Join the Women’s Fund and Pew Charitable Trusts for a discussion on women and girl’s economic security\, including how the Economic Blueprint for Women Action Plan is building economic security for women in the SouthCoast. \nWith special guest speaker\nSheida Elmi\nSenior Associate\, Pew Charitable Trust\nFamily Financial Security and Mobility Project \n  \nTickets $30 for General Seating $10 Low-Income or Student Seating. Tickets include a continental breakfast\, networking opportunities\, and keynote presentation. \nRegister here: \nhttps://www.womensfundsema.org/2017-leadership-breakfast?utm_campaign=WUWF%2B9.21.2016&utm_medium=email&utm_source=WF%2B2017%2BLeadership%2BBreakfast%2BInvitation
URL:http://mattdems.org/index.php/event/the-womens-funds-2017-leadership-breakfast/
LOCATION:UMass Dartmouth\, 285 Old Westport Road\, North Dartmouth\, MA\, 02747\, United States
END:VEVENT
END:VCALENDAR