BEGIN:VCALENDAR
VERSION:2.0
PRODID:-//Mattapoisett Democratic Town Committee - ECPv6.15.20//NONSGML v1.0//EN
CALSCALE:GREGORIAN
METHOD:PUBLISH
X-ORIGINAL-URL:http://mattdems.org
X-WR-CALDESC:Events for Mattapoisett Democratic Town Committee
REFRESH-INTERVAL;VALUE=DURATION:PT1H
X-Robots-Tag:noindex
X-PUBLISHED-TTL:PT1H
BEGIN:VTIMEZONE
TZID:UTC
BEGIN:STANDARD
TZOFFSETFROM:+0000
TZOFFSETTO:+0000
TZNAME:UTC
DTSTART:20160101T000000
END:STANDARD
END:VTIMEZONE
BEGIN:VEVENT
DTSTART;TZID=UTC:20171112T140000
DTEND;TZID=UTC:20171112T163000
DTSTAMP:20260423T072625
CREATED:20171107T213552Z
LAST-MODIFIED:20171107T213552Z
UID:15927-1510495200-1510504200@mattdems.org
SUMMARY:Book Group: Racism in the USA
DESCRIPTION:Join us for a first organizational meeting of a book group devoted to studying racism in the United States. Bring the names of three books you’d like to read together. To RSVP (or for more information) call David Ehrens at 508-993-4551.
URL:http://mattdems.org/index.php/event/book-group-racism-in-the-usa/
LOCATION:24 Sunset lane\, 24 Sunset Lane\, Dartmouth\, MA\, 02748\, United States
END:VEVENT
END:VCALENDAR