BEGIN:VCALENDAR
VERSION:2.0
PRODID:-//Mattapoisett Democratic Town Committee - ECPv6.15.20//NONSGML v1.0//EN
CALSCALE:GREGORIAN
METHOD:PUBLISH
X-WR-CALNAME:Mattapoisett Democratic Town Committee
X-ORIGINAL-URL:http://mattdems.org
X-WR-CALDESC:Events for Mattapoisett Democratic Town Committee
REFRESH-INTERVAL;VALUE=DURATION:PT1H
X-Robots-Tag:noindex
X-PUBLISHED-TTL:PT1H
BEGIN:VTIMEZONE
TZID:UTC
BEGIN:STANDARD
TZOFFSETFROM:+0000
TZOFFSETTO:+0000
TZNAME:UTC
DTSTART:20160101T000000
END:STANDARD
END:VTIMEZONE
BEGIN:VEVENT
DTSTART;TZID=UTC:20171007T170000
DTEND;TZID=UTC:20171007T190000
DTSTAMP:20260423T072626
CREATED:20171004T205942Z
LAST-MODIFIED:20171004T205942Z
UID:15913-1507395600-1507402800@mattdems.org
SUMMARY:Standing Together Against Hate
DESCRIPTION:A free film screening followed by guest speakers Martin Bentz from the Islamic Society of Southeastern MA\, and Thomas Curnalia and Jared Picchi from Human Rights Clinic. \nThe City of New Bedford Department of Community Services & The Asian Pacific American Law Students Association at UMass Law Present: Standing Together Against Hate A roundtable discussion on building community coalitions and uniting allies in the fight against hate. The story of Vincent Chin & the case that sparked the Asian-American civil rights movement. \nFor more information\, contact Mali Lim at 508-961-3020 or email mali.lim@newbedford-ma.gov.
URL:http://mattdems.org/index.php/event/standing-together-against-hate/
LOCATION:New Bedford First Unitarian Church\, 71 8th Street\, New Bedford\, MA\, United States
END:VEVENT
BEGIN:VEVENT
DTSTART;TZID=UTC:20171021T110000
DTEND;TZID=UTC:20171021T120000
DTSTAMP:20260423T072626
CREATED:20170723T203526Z
LAST-MODIFIED:20171003T125911Z
UID:15845-1508583600-1508587200@mattdems.org
SUMMARY:Mattapoisett Democratic Town Committee October Meeting
DESCRIPTION:Meet Setti Warren a Democratic candidate for the MA Governor race in 2018. Setti\, currently the major of Newton\, hopes as governor he can tackle economic inequality in Massachusetts. The mayor plans to address our group and then answer any questions we might have.
URL:http://mattdems.org/index.php/event/mattapoisett-democratic-town-committee-october-meeting/
LOCATION:Mattapoisett Free Public Library\, 7 Barstow Street\, Mattapoisett\, MA\, 02739\, United States
ORGANIZER;CN="MattDems":MAILTO:info@mattdems.org
END:VEVENT
BEGIN:VEVENT
DTSTART;TZID=UTC:20171025T080000
DTEND;TZID=UTC:20171025T103000
DTSTAMP:20260423T072626
CREATED:20171003T130904Z
LAST-MODIFIED:20171003T130904Z
UID:15905-1508918400-1508927400@mattdems.org
SUMMARY:The Women's Fund's 2017 Leadership Breakfast
DESCRIPTION:Join the Women’s Fund and Pew Charitable Trusts for a discussion on women and girl’s economic security\, including how the Economic Blueprint for Women Action Plan is building economic security for women in the SouthCoast. \nWith special guest speaker\nSheida Elmi\nSenior Associate\, Pew Charitable Trust\nFamily Financial Security and Mobility Project \n  \nTickets $30 for General Seating $10 Low-Income or Student Seating. Tickets include a continental breakfast\, networking opportunities\, and keynote presentation. \nRegister here: \nhttps://www.womensfundsema.org/2017-leadership-breakfast?utm_campaign=WUWF%2B9.21.2016&utm_medium=email&utm_source=WF%2B2017%2BLeadership%2BBreakfast%2BInvitation
URL:http://mattdems.org/index.php/event/the-womens-funds-2017-leadership-breakfast/
LOCATION:UMass Dartmouth\, 285 Old Westport Road\, North Dartmouth\, MA\, 02747\, United States
END:VEVENT
BEGIN:VEVENT
DTSTART;TZID=UTC:20171030T190000
DTEND;TZID=UTC:20171030T203000
DTSTAMP:20260423T072626
CREATED:20171026T161247Z
LAST-MODIFIED:20171026T161247Z
UID:15924-1509390000-1509395400@mattdems.org
SUMMARY:We Won't Go Back - General Meeting
DESCRIPTION:Doors open at 6 PM. Meeting starts at 7 PM \nWe are a grassroots organization with women\, men\, LGBTQI\, college students\, immigrants\, parents\, retired folks\, teachers\, professionals\, and more\, who wish to protect our community and environment from the negative impacts of the Trump Administration. \nCoffee and water provided\, feel free to bring something to share
URL:http://mattdems.org/index.php/event/we-wont-go-back-general-meeting/
LOCATION:GSM Labor Council\, 560 Pleasant Street\, New Bedford\, MA\, 02740\, United States
END:VEVENT
END:VCALENDAR