BEGIN:VCALENDAR
VERSION:2.0
PRODID:-//Mattapoisett Democratic Town Committee - ECPv6.15.20//NONSGML v1.0//EN
CALSCALE:GREGORIAN
METHOD:PUBLISH
X-WR-CALNAME:Mattapoisett Democratic Town Committee
X-ORIGINAL-URL:http://mattdems.org
X-WR-CALDESC:Events for Mattapoisett Democratic Town Committee
REFRESH-INTERVAL;VALUE=DURATION:PT1H
X-Robots-Tag:noindex
X-PUBLISHED-TTL:PT1H
BEGIN:VTIMEZONE
TZID:UTC
BEGIN:STANDARD
TZOFFSETFROM:+0000
TZOFFSETTO:+0000
TZNAME:UTC
DTSTART:20170101T000000
END:STANDARD
END:VTIMEZONE
BEGIN:VEVENT
DTSTART;TZID=UTC:20180120T140000
DTEND;TZID=UTC:20180120T150000
DTSTAMP:20260423T020614
CREATED:20180105T153810Z
LAST-MODIFIED:20180105T153810Z
UID:15937-1516456800-1516460400@mattdems.org
SUMMARY:Women's March 2018
DESCRIPTION:March in New Bedford to celebrate the 1 year anniversary of the Women’s March on Washington and Women’s March on Boston.\nThis March is part of the Weekend of Women 2018\, a day of events in downtown New Bedford. Open to all! Children and families welcome.
URL:http://mattdems.org/index.php/event/womens-march-2018/
LOCATION:Custom House Square\, 33 William Street\, New Bedford\, MA\, 02740\, United States
ORGANIZER;CN="Marching Forward":MAILTO:strength@marchingforwardmass.com
END:VEVENT
BEGIN:VEVENT
DTSTART;TZID=UTC:20180127T143000
DTEND;TZID=UTC:20180127T160000
DTSTAMP:20260423T020614
CREATED:20180118T234927Z
LAST-MODIFIED:20180118T234927Z
UID:15950-1517063400-1517068800@mattdems.org
SUMMARY:A Conversation with Mayor Warren about the Opioid Epidemic
DESCRIPTION:I’d like to invite you to a town hall conversation in New Bedford about the opioid epidemic with Setti Warren. \nSetti Warren is the Mayor of Newton and a candidate for Massachusetts governor. As you know\, the opioid epidemic remains a massive and growing crisis. Everyday\, 5 people suffer a fatal overdose\, over 50 people suffer non-fatal overdoses\, and about 70 people become addicted to opioids across Massachusetts. An estimated quarter of a million people are living with an addiction to prescription or synthetic opioids in Massachusetts right now. \nMayor Warren wants to hear from you. Whether you are an expert or someone affected by the crisis\, the stakes are too high. We can’t afford to leave any good ideas off the table. \nPlease\, join the conversation on Saturday\, January 27th. Here are the details: \nA Conversation with Mayor Warren about the Opioid Epidemic\nGreater Southeastern Mass Labor Council\n560 Pleasant St\, New Bedford\nSaturday\, January 27th\n2:30pm – 4:00pm\nRSVP: settiwarren.com/townhall
URL:http://mattdems.org/index.php/event/a-conversation-with-mayor-warren-about-the-opioid-epidemic/
LOCATION:GSM Labor Council\, 560 Pleasant Street\, New Bedford\, MA\, 02740\, United States
END:VEVENT
BEGIN:VEVENT
DTSTART;TZID=UTC:20180128T140000
DTEND;TZID=UTC:20180128T170000
DTSTAMP:20260423T020614
CREATED:20180105T154651Z
LAST-MODIFIED:20180105T154651Z
UID:15940-1517148000-1517158800@mattdems.org
SUMMARY:New Bedford LGBTQ Winter Film Series
DESCRIPTION:Join us at New Bedford Whaling National Historical Park\nfrom 2 pm – 5 pm on the last Sunday of January\, February\,\nMarch\,and April for free film screenings and discussions\non gender\,race\,sexuality\,and community health.
URL:http://mattdems.org/index.php/event/new-bedford-lgbtq-winter-film-series/
LOCATION:New Bedford Whaling National Historical Park\, 33 William Street\, New Bedford\, MA\, 02740\, United States
END:VEVENT
BEGIN:VEVENT
DTSTART;TZID=UTC:20180130T180000
DTEND;TZID=UTC:20180130T190000
DTSTAMP:20260423T020614
CREATED:20180105T152643Z
LAST-MODIFIED:20180105T152643Z
UID:15934-1517335200-1517338800@mattdems.org
SUMMARY:Marching Forward Political Action
DESCRIPTION:Marching Forward is holding a meeting in which they will examine a slate of 20 or so candidates and races across the country. From those we’ll choose about 5 on which to focus our efforts. Some may be Democrats in an at risk district\, others may be Democrats who are challenging a Republican incumbent and have a real chance to ‘flip’ the seat. We will be using information from Emily’s List\, Swing Left\, Minuteman Indivisible\, and others to develop our initial ‘slate’ of candidates.
URL:http://mattdems.org/index.php/event/marching-forward-political-action/
LOCATION:Southworth Library\, 732 Dartmouth Street\, Dartmouth\, MA\, 02748\, United States
ORGANIZER;CN="Marching Forward":MAILTO:strength@marchingforwardmass.com
END:VEVENT
END:VCALENDAR