BEGIN:VCALENDAR
VERSION:2.0
PRODID:-//Mattapoisett Democratic Town Committee - ECPv6.15.20//NONSGML v1.0//EN
CALSCALE:GREGORIAN
METHOD:PUBLISH
X-WR-CALNAME:Mattapoisett Democratic Town Committee
X-ORIGINAL-URL:http://mattdems.org
X-WR-CALDESC:Events for Mattapoisett Democratic Town Committee
REFRESH-INTERVAL;VALUE=DURATION:PT1H
X-Robots-Tag:noindex
X-PUBLISHED-TTL:PT1H
BEGIN:VTIMEZONE
TZID:UTC
BEGIN:STANDARD
TZOFFSETFROM:+0000
TZOFFSETTO:+0000
TZNAME:UTC
DTSTART:20170101T000000
END:STANDARD
END:VTIMEZONE
BEGIN:VEVENT
DTSTART;TZID=UTC:20180202T080000
DTEND;TZID=UTC:20180202T200000
DTSTAMP:20260423T003531
CREATED:20180118T233259Z
LAST-MODIFIED:20180118T233259Z
UID:15945-1517558400-1517601600@mattdems.org
SUMMARY:Mattapoisett Voter Registration Day
DESCRIPTION:Town Clerk to Host Voter Registration Day Before Upcoming Feb. 12th Special Town Meeting \nFebruary 2\, 2018 Clerk’s Office Open til 8pm \nSpecial Town Meeting \nThe Mattapoisett Board of Selectmen has voted to hold a Special Town Meeting on Monday\, February 12\, 2018 at Old Rochester Regional High School Auditorium at 6:30 pm. There will be a special voter registration session held on Friday\, February 2\, 2018. The Town Clerk’s Office will be open until 8pm to provide an opportunity for eligible Mattapoisett residents who are not already registered to vote to do so. This is the registration deadline in order to participate in the upcoming Special Town Meeting.
URL:http://mattdems.org/index.php/event/mattapoisett-voter-registration-day/
LOCATION:Mattapoisett Town Office\, 16 Main Street\, Mattapoisett\, MA\, 02739\, United States
END:VEVENT
BEGIN:VEVENT
DTSTART;TZID=UTC:20180224T101500
DTEND;TZID=UTC:20180224T120000
DTSTAMP:20260423T003531
CREATED:20180118T234336Z
LAST-MODIFIED:20180118T234336Z
UID:15948-1519467300-1519473600@mattdems.org
SUMMARY:Mattapoisett Democratic Town Committee Caucus
DESCRIPTION:Mattapoisett Democratic Caucus to elect delegates to the State Convention \nFacts about the Convention \nThe Caucus elects Delegates and Alternates to the annual Democratic State Convention\, June 1st and 2nd\, 2018\n2018’s Convention is an “Endorsing Convention\,” sometimes called a “Nominating Convention.”\nEndorsements for statewide office of enrolled Democrats nominated at the Convention shall be by majority vote of the delegates present and voting\, with the provision that any nominee who receives at least 15 percent of the Convention vote on any ballot for a particular office may challenge the Convention endorsement in a State primary election.\nStatewide candidates who receive 15% of Delegate votes are eligible to be on the Democratic Primary ballot in September 2018.
URL:http://mattdems.org/index.php/event/mattapoisett-democratic-town-committee-caucus/
LOCATION:Mattapoisett Free Public Library\, 7 Barstow Street\, Mattapoisett\, MA\, 02739\, United States
ORGANIZER;CN="MattDems":MAILTO:info@mattdems.org
END:VEVENT
END:VCALENDAR