BEGIN:VCALENDAR
VERSION:2.0
PRODID:-//Mattapoisett Democratic Town Committee - ECPv6.15.20//NONSGML v1.0//EN
CALSCALE:GREGORIAN
METHOD:PUBLISH
X-ORIGINAL-URL:http://mattdems.org
X-WR-CALDESC:Events for Mattapoisett Democratic Town Committee
REFRESH-INTERVAL;VALUE=DURATION:PT1H
X-Robots-Tag:noindex
X-PUBLISHED-TTL:PT1H
BEGIN:VTIMEZONE
TZID:UTC
BEGIN:STANDARD
TZOFFSETFROM:+0000
TZOFFSETTO:+0000
TZNAME:UTC
DTSTART:20170101T000000
END:STANDARD
END:VTIMEZONE
BEGIN:VEVENT
DTSTART;TZID=UTC:20180310T100000
DTEND;TZID=UTC:20180310T120000
DTSTAMP:20260422T230054
CREATED:20180227T210739Z
LAST-MODIFIED:20180227T210739Z
UID:15976-1520676000-1520683200@mattdems.org
SUMMARY:Greater Fall River/New Bedford Community Briefing with Raise Up MA
DESCRIPTION:he legislature needs to hear from us\, in every corner of the Commonwealth\, that it’s time to pass Paid Family and Medical Leave and a $15 Minimum Wage. Now that we’ve collected enough signatures to put both of these questions on the ballot\, our message to the legislature is clear: let’s do this.\nTo make our message heard\, we’re inviting legislators from our region to join us to hear directly from their constituents on why these issues matter. Will you join us for a legislative forum to help make this ask? \nJoin us on Saturday\, March 10th at 10:00AM\, 247 Elm Street at the Carney Academy New Bedford in New Bedford\, MA\, to ask our legislators to prioritize and pass comprehensive Paid Family and Medical Leave and a $15 Minimum Wage for all workers in Massachusetts. \nREGISTER: bit.ly/raiseupnewbedford \n 
URL:http://mattdems.org/index.php/event/greater-fall-river-new-bedford-community-briefing-with-raise-up-ma/
LOCATION:Carney Academy New Bedford\, 247 Elm Street\, New Bedford\, MA\, United States
END:VEVENT
BEGIN:VEVENT
DTSTART;TZID=UTC:20180317T101500
DTEND;TZID=UTC:20180317T113000
DTSTAMP:20260422T230054
CREATED:20180227T210241Z
LAST-MODIFIED:20180227T210241Z
UID:15974-1521281700-1521286200@mattdems.org
SUMMARY:Mattapoisett Democratic Town Committee Monthly Meeting
DESCRIPTION:
URL:http://mattdems.org/index.php/event/mattapoisett-democratic-town-committee-monthly-meeting/
LOCATION:Mattapoisett Free Public Library\, 7 Barstow Street\, Mattapoisett\, MA\, 02739\, United States
ORGANIZER;CN="MattDems":MAILTO:info@mattdems.org
END:VEVENT
END:VCALENDAR